BEGIN:VCALENDAR
VERSION:2.0
PRODID:-//wp-events-plugin.com//7.2.3.1//EN
TZID:Europe/Vienna
X-WR-TIMEZONE:Europe/Vienna
BEGIN:VEVENT
UID:19@cool-it.at
DTSTART;TZID=Europe/Vienna:20260609T090000
DTEND;TZID=Europe/Vienna:20260610T170000
DTSTAMP:20250930T084825Z
URL:https://www.cool-it.at/events/praesenz-workshop-it-fuer-nicht-technike
 rinnen-6/
SUMMARY:Präsenz-Workshop: IT für NICHT-Techniker:innen
DESCRIPTION:jeweils 09 - 17 Uhr (16 UE)\n\nTrainerin:\nMag. Sabine Stiller\
 n\nVeranstaltungsort:\nsinnvollFÜHREN\nMittelgasse 4\n1060 Wien\n\nDer Ei
 ngang zum Seminarraum befindet sich ca. 20m rechts vom Firmeneingang.\n\n\
 n\nKaffee und Getränke sind inkludiert.\n\nGeräte:\nBitte bringen Sie No
 tebooks mit. Bei einigen Übungen wird ein Internet benötigt\, um Recherc
 hen durchzuführen oder Tools zu verwenden. Es werden keine Installationen
  durchgeführt und es sind keine besonderen Programme erforderlich.\n\nZer
 tifikat:\nDie Teilnehmer erhalten ein Zertifikat über die erfolgreiche Ab
 solvierung des Seminars.
CATEGORIES:IT für NICHT-Techniker:Innen (Präsenz)
LOCATION:sinnvollFÜHREN\, Mittelgasse 4\, Wien\, 1060\, Österreich
X-APPLE-STRUCTURED-LOCATION;VALUE=URI;X-ADDRESS=Mittelgasse 4\, Wien\, 1060
 \, Österreich;X-APPLE-RADIUS=100;X-TITLE=sinnvollFÜHREN:geo:0,0
END:VEVENT
BEGIN:VTIMEZONE
TZID:Europe/Vienna
X-LIC-LOCATION:Europe/Vienna
BEGIN:DAYLIGHT
DTSTART:20260329T030000
TZOFFSETFROM:+0100
TZOFFSETTO:+0200
TZNAME:CEST
END:DAYLIGHT
END:VTIMEZONE
END:VCALENDAR